BEGIN:VCALENDAR
VERSION:2.0
PRODID:-//mercedcasa.org//NONSGML kigkonsult.se iCalcreator 2.30.10//
CALSCALE:GREGORIAN
METHOD:PUBLISH
UID:b942bd9d-2290-4d87-b95b-dc61437adeee
X-WR-CALDESC:Winning Raffle Ticket To Be Drawn This Morning At 8 am At The 
 CASA Office For The San Francisco Giants Ticket Raffle.
X-WR-RELCALID:634cf8feae293e64ff8acd92d398ad02
X-WR-TIMEZONE:America/Los_Angeles
BEGIN:VTIMEZONE
TZID:America/Los_Angeles
BEGIN:STANDARD
TZNAME:PST
DTSTART:20181104T020000
TZOFFSETFROM:-0700
TZOFFSETTO:-0800
RDATE:20191103T020000
RDATE:20201101T020000
END:STANDARD
BEGIN:DAYLIGHT
TZNAME:PDT
DTSTART:20190310T020000
TZOFFSETFROM:-0800
TZOFFSETTO:-0700
RDATE:20200308T020000
END:DAYLIGHT
END:VTIMEZONE
BEGIN:VEVENT
UID:7dd18003-c441-4cee-93aa-f4a315b89229
DTSTAMP:20260424T090647Z
DESCRIPTION:Winning Raffle Ticket To Be Drawn This Morning At 8 am At The C
 ASA Office For The San Francisco Giants Ticket Raffle.
DTSTART;TZID=America/Los_Angeles:20190614T080000
DTEND;TZID=America/Los_Angeles:20190614T080000
LOCATION:
SUMMARY:Winning Raffle Ticket To Be Drawn For San Francisco Giants Ticket R
 affle
END:VEVENT
END:VCALENDAR
