BEGIN:VCALENDAR
VERSION:2.0
PRODID:-//mercedcasa.org//NONSGML kigkonsult.se iCalcreator 2.30.10//
CALSCALE:GREGORIAN
METHOD:PUBLISH
UID:a9baf273-a530-4648-8b19-9143f66b48bc
X-WR-CALDESC:The CASA Board Members will hold their monthly meeting and add
 ress current issues and topics related to the organization. Current CASA V
 olunteers are always welcome to sit-in on a board meeting.
X-WR-RELCALID:bf8ba6ecd48cf9d792ed774818eea8a2
X-WR-TIMEZONE:America/Los_Angeles
BEGIN:VTIMEZONE
TZID:America/Los_Angeles
BEGIN:STANDARD
TZNAME:PST
DTSTART:20181104T020000
TZOFFSETFROM:-0700
TZOFFSETTO:-0800
RDATE:20191103T020000
RDATE:20201101T020000
END:STANDARD
BEGIN:DAYLIGHT
TZNAME:PDT
DTSTART:20190310T020000
TZOFFSETFROM:-0800
TZOFFSETTO:-0700
RDATE:20200308T020000
END:DAYLIGHT
END:VTIMEZONE
BEGIN:VEVENT
UID:153b8b03-8aa7-40fa-a2c3-d2b6df68a1a4
DTSTAMP:20260424T115002Z
DESCRIPTION:The CASA Board Members will hold their monthly meeting and addr
 ess current issues and topics related to the organization. Current CASA Vo
 lunteers are always welcome to sit-in on a board meeting.
DTSTART;TZID=America/Los_Angeles:20190619T173000
DTEND;TZID=America/Los_Angeles:20190619T183000
LOCATION:CASA Office
SUMMARY:Board Meeting
END:VEVENT
END:VCALENDAR
