BEGIN:VCALENDAR
VERSION:2.0
PRODID:-//mercedcasa.org//NONSGML kigkonsult.se iCalcreator 2.30.10//
CALSCALE:GREGORIAN
METHOD:PUBLISH
UID:74a3699e-e34a-4e2d-984f-e16aa8d1320e
X-WR-CALDESC:We will be reading a few stories and singing some fun songs wi
 th the youth during the hour each day.  It should be a great time for our 
 young CASA youth to enjoy reading\, singing\, and socializing with other y
 outh their age! We look forward to seeing everyone there!
X-WR-RELCALID:f0d6b88f0fa9d7c24d83b2272770d11d
X-WR-TIMEZONE:America/Los_Angeles
BEGIN:VTIMEZONE
TZID:America/Los_Angeles
BEGIN:STANDARD
TZNAME:PST
DTSTART:20181104T020000
TZOFFSETFROM:-0700
TZOFFSETTO:-0800
RDATE:20191103T020000
RDATE:20201101T020000
END:STANDARD
BEGIN:DAYLIGHT
TZNAME:PDT
DTSTART:20190310T020000
TZOFFSETFROM:-0800
TZOFFSETTO:-0700
RDATE:20200308T020000
END:DAYLIGHT
END:VTIMEZONE
BEGIN:VEVENT
UID:0cb5b478-3997-4140-b893-8ed524b5ee5a
DTSTAMP:20260424T091557Z
DESCRIPTION:We will be reading a few stories and singing some fun songs wit
 h the youth during the hour each day.  It should be a great time for our y
 oung CASA youth to enjoy reading\, singing\, and socializing with other yo
 uth their age! We look forward to seeing everyone there!
DTSTART;TZID=America/Los_Angeles:20190717T150000
DTEND;TZID=America/Los_Angeles:20190717T160000
LOCATION:CASA Office
SUMMARY:Story Time for CASA Youth
END:VEVENT
END:VCALENDAR
