BEGIN:VCALENDAR
VERSION:2.0
PRODID:-//mercedcasa.org//NONSGML kigkonsult.se iCalcreator 2.30.10//
CALSCALE:GREGORIAN
METHOD:PUBLISH
UID:158cf6b4-696a-4457-82df-1982fbe65634
X-WR-CALDESC:
X-WR-RELCALID:5b5a217b7135105c8e24ea72f870386c
X-WR-TIMEZONE:America/Los_Angeles
BEGIN:VTIMEZONE
TZID:America/Los_Angeles
BEGIN:STANDARD
TZNAME:PST
DTSTART:20181104T020000
TZOFFSETFROM:-0700
TZOFFSETTO:-0800
RDATE:20191103T020000
RDATE:20201101T020000
END:STANDARD
BEGIN:DAYLIGHT
TZNAME:PDT
DTSTART:20190310T020000
TZOFFSETFROM:-0800
TZOFFSETTO:-0700
RDATE:20200308T020000
RDATE:20210314T020000
END:DAYLIGHT
END:VTIMEZONE
BEGIN:VEVENT
UID:5212560d-99c6-4933-afe6-81c1ce73956f
DTSTAMP:20260425T225316Z
DESCRIPTION:
DTSTART;TZID=America/Los_Angeles:20191003T173000
DTEND;TZID=America/Los_Angeles:20191003T203000
LOCATION:
SUMMARY:Training Class #32
END:VEVENT
END:VCALENDAR
