BEGIN:VCALENDAR
VERSION:2.0
PRODID:-//mercedcasa.org//NONSGML kigkonsult.se iCalcreator 2.30.10//
CALSCALE:GREGORIAN
METHOD:PUBLISH
UID:79086458-6da5-4469-88fe-f035f6c8b528
X-WR-CALDESC:
X-WR-RELCALID:8ec0825e9661245f8afb12708e858304
X-WR-TIMEZONE:America/Los_Angeles
BEGIN:VTIMEZONE
TZID:America/Los_Angeles
BEGIN:STANDARD
TZNAME:PST
DTSTART:20181104T020000
TZOFFSETFROM:-0700
TZOFFSETTO:-0800
RDATE:20191103T020000
RDATE:20201101T020000
END:STANDARD
BEGIN:DAYLIGHT
TZNAME:PDT
DTSTART:20190310T020000
TZOFFSETFROM:-0800
TZOFFSETTO:-0700
RDATE:20200308T020000
RDATE:20210314T020000
END:DAYLIGHT
END:VTIMEZONE
BEGIN:VEVENT
UID:1b77eb86-51c7-4fc3-b94b-5ea76b0bc3c2
DTSTAMP:20260425T130921Z
DESCRIPTION:
DTSTART;TZID=America/Los_Angeles:20191017T153000
DTEND;TZID=America/Los_Angeles:20191017T173000
LOCATION:
SUMMARY:Training Class #32
END:VEVENT
END:VCALENDAR
