BEGIN:VCALENDAR
VERSION:2.0
PRODID:-//mercedcasa.org//NONSGML kigkonsult.se iCalcreator 2.30.10//
CALSCALE:GREGORIAN
METHOD:PUBLISH
UID:f958a4c4-4327-4989-8cab-8d75f8c3a81a
X-WR-CALDESC:
X-WR-RELCALID:0d796b9c5199f138a1eefd9a5c95378f
X-WR-TIMEZONE:America/Los_Angeles
BEGIN:VTIMEZONE
TZID:America/Los_Angeles
BEGIN:STANDARD
TZNAME:PST
DTSTART:20191103T020000
TZOFFSETFROM:-0700
TZOFFSETTO:-0800
RDATE:20201101T020000
END:STANDARD
BEGIN:DAYLIGHT
TZNAME:PDT
DTSTART:20190310T020000
TZOFFSETFROM:-0800
TZOFFSETTO:-0700
RDATE:20200308T020000
RDATE:20210314T020000
END:DAYLIGHT
END:VTIMEZONE
BEGIN:VEVENT
UID:85ec5dbd-24b0-4299-b4c5-b40ff39eb019
DTSTAMP:20260424T235317Z
DESCRIPTION:
DTSTART;TZID=America/Los_Angeles:20191225T070000
DTEND;TZID=America/Los_Angeles:20191225T170000
LOCATION:
SUMMARY:Christmas Day- office closed
END:VEVENT
END:VCALENDAR
