BEGIN:VCALENDAR
VERSION:2.0
PRODID:-//mercedcasa.org//NONSGML kigkonsult.se iCalcreator 2.30.10//
CALSCALE:GREGORIAN
METHOD:PUBLISH
UID:00a44950-693a-4190-ba8b-76eea947a729
X-WR-CALDESC:
X-WR-RELCALID:98d6c89a87eee91c7eb01998a84194bc
X-WR-TIMEZONE:America/Los_Angeles
BEGIN:VTIMEZONE
TZID:America/Los_Angeles
BEGIN:STANDARD
TZNAME:PST
DTSTART:20191103T020000
TZOFFSETFROM:-0700
TZOFFSETTO:-0800
RDATE:20201101T020000
END:STANDARD
BEGIN:DAYLIGHT
TZNAME:PDT
DTSTART:20190310T020000
TZOFFSETFROM:-0800
TZOFFSETTO:-0700
RDATE:20200308T020000
RDATE:20210314T020000
END:DAYLIGHT
END:VTIMEZONE
BEGIN:VEVENT
UID:5c1394a3-5fb8-4298-b2e0-8db8effaee19
DTSTAMP:20260421T172910Z
DESCRIPTION:
DTSTART;TZID=America/Los_Angeles:20200219T133000
DTEND;TZID=America/Los_Angeles:20200219T143000
LOCATION:CASA Office
SUMMARY:Governance Meeting
END:VEVENT
END:VCALENDAR
