BEGIN:VCALENDAR
VERSION:2.0
PRODID:-//mercedcasa.org//NONSGML kigkonsult.se iCalcreator 2.30.10//
CALSCALE:GREGORIAN
METHOD:PUBLISH
UID:56a020be-2968-4727-a96a-58a0d9120357
X-WR-CALDESC:
X-WR-RELCALID:dc05ce48ad20d66bed93ff03fc908532
X-WR-TIMEZONE:America/Los_Angeles
BEGIN:VTIMEZONE
TZID:America/Los_Angeles
BEGIN:STANDARD
TZNAME:PST
DTSTART:20191103T020000
TZOFFSETFROM:-0700
TZOFFSETTO:-0800
RDATE:20201101T020000
END:STANDARD
BEGIN:DAYLIGHT
TZNAME:PDT
DTSTART:20190310T020000
TZOFFSETFROM:-0800
TZOFFSETTO:-0700
RDATE:20200308T020000
RDATE:20210314T020000
END:DAYLIGHT
END:VTIMEZONE
BEGIN:VEVENT
UID:4d8cbdb4-5238-43e7-b34e-b2928a3e483c
DTSTAMP:20260423T235141Z
DESCRIPTION:
DTSTART;TZID=America/Los_Angeles:20200309T150000
DTEND;TZID=America/Los_Angeles:20200309T160000
LOCATION:
SUMMARY:CASA // Information Session
END:VEVENT
END:VCALENDAR
