BEGIN:VCALENDAR
VERSION:2.0
PRODID:-//mercedcasa.org//NONSGML kigkonsult.se iCalcreator 2.30.10//
CALSCALE:GREGORIAN
METHOD:PUBLISH
UID:e67d3ab9-6cf3-4489-9f46-223c08af2283
X-WR-CALDESC:
X-WR-RELCALID:b7f8d27f4cf35bb6563f25e91e474a48
X-WR-TIMEZONE:America/Los_Angeles
BEGIN:VTIMEZONE
TZID:America/Los_Angeles
BEGIN:STANDARD
TZNAME:PST
DTSTART:20191103T020000
TZOFFSETFROM:-0700
TZOFFSETTO:-0800
RDATE:20201101T020000
RDATE:20211107T020000
END:STANDARD
BEGIN:DAYLIGHT
TZNAME:PDT
DTSTART:20200308T020000
TZOFFSETFROM:-0800
TZOFFSETTO:-0700
RDATE:20210314T020000
END:DAYLIGHT
END:VTIMEZONE
BEGIN:VEVENT
UID:6b56e23f-4a48-446a-8863-e87ced8ab77d
DTSTAMP:20260425T001547Z
DESCRIPTION:
DTSTART;TZID=America/Los_Angeles:20200509T090000
DTEND;TZID=America/Los_Angeles:20200509T140000
LOCATION:
SUMMARY:Training Class #34
END:VEVENT
END:VCALENDAR
