BEGIN:VCALENDAR
VERSION:2.0
PRODID:-//mercedcasa.org//NONSGML kigkonsult.se iCalcreator 2.30.10//
CALSCALE:GREGORIAN
METHOD:PUBLISH
UID:8ff37b00-1205-4c4e-8b33-aa8764f8c4be
X-WR-CALDESC:
X-WR-RELCALID:bfcb532b685b1e8b934f5cc2d6661300
X-WR-TIMEZONE:America/Los_Angeles
BEGIN:VTIMEZONE
TZID:America/Los_Angeles
BEGIN:STANDARD
TZNAME:PST
DTSTART:20191103T020000
TZOFFSETFROM:-0700
TZOFFSETTO:-0800
RDATE:20201101T020000
RDATE:20211107T020000
END:STANDARD
BEGIN:DAYLIGHT
TZNAME:PDT
DTSTART:20200308T020000
TZOFFSETFROM:-0800
TZOFFSETTO:-0700
RDATE:20210314T020000
RDATE:20220313T020000
END:DAYLIGHT
END:VTIMEZONE
BEGIN:VEVENT
UID:c5b875cf-9c46-453a-bba0-b55ee0306b60
DTSTAMP:20260422T194953Z
DESCRIPTION:
DTSTART;TZID=America/Los_Angeles:20201029T173000
DTEND;TZID=America/Los_Angeles:20201029T203000
LOCATION:
SUMMARY:Training Class #36
END:VEVENT
END:VCALENDAR
