BEGIN:VCALENDAR
VERSION:2.0
PRODID:-//mercedcasa.org//NONSGML kigkonsult.se iCalcreator 2.30.10//
CALSCALE:GREGORIAN
METHOD:PUBLISH
UID:c0a5ef69-529d-4ef3-bff7-37d34c57c350
X-WR-CALDESC:
X-WR-RELCALID:560b35c25182733b5db5a44865c69873
X-WR-TIMEZONE:America/Los_Angeles
BEGIN:VTIMEZONE
TZID:America/Los_Angeles
BEGIN:STANDARD
TZNAME:PST
DTSTART:20201101T020000
TZOFFSETFROM:-0700
TZOFFSETTO:-0800
RDATE:20211107T020000
END:STANDARD
BEGIN:DAYLIGHT
TZNAME:PDT
DTSTART:20200308T020000
TZOFFSETFROM:-0800
TZOFFSETTO:-0700
RDATE:20210314T020000
RDATE:20220313T020000
END:DAYLIGHT
END:VTIMEZONE
BEGIN:VEVENT
UID:d9b81d3c-a9d5-4fd3-b1a9-036c0a0a29e5
DTSTAMP:20260423T042439Z
DESCRIPTION:
DTSTART;TZID=America/Los_Angeles:20201119T173000
DTEND;TZID=America/Los_Angeles:20201119T203000
LOCATION:
SUMMARY:Training Class #36
END:VEVENT
END:VCALENDAR
