BEGIN:VCALENDAR
VERSION:2.0
PRODID:-//mercedcasa.org//NONSGML kigkonsult.se iCalcreator 2.30.10//
CALSCALE:GREGORIAN
METHOD:PUBLISH
UID:1b466a1d-ab71-479e-a967-0a620c4a2112
X-WR-CALDESC:
X-WR-RELCALID:3e226620ac0ac6517202f25e8e512332
X-WR-TIMEZONE:America/Los_Angeles
BEGIN:VTIMEZONE
TZID:America/Los_Angeles
BEGIN:STANDARD
TZNAME:PST
DTSTART:20201101T020000
TZOFFSETFROM:-0700
TZOFFSETTO:-0800
RDATE:20211107T020000
END:STANDARD
BEGIN:DAYLIGHT
TZNAME:PDT
DTSTART:20200308T020000
TZOFFSETFROM:-0800
TZOFFSETTO:-0700
RDATE:20210314T020000
RDATE:20220313T020000
END:DAYLIGHT
END:VTIMEZONE
BEGIN:VEVENT
UID:4bb3704f-a370-475f-8a06-6ed6e11dddb5
DTSTAMP:20260420T030907Z
DESCRIPTION:
DTSTART;TZID=America/Los_Angeles:20210206T090000
DTEND;TZID=America/Los_Angeles:20210206T140000
LOCATION:
SUMMARY:Training Class #37
END:VEVENT
END:VCALENDAR
