BEGIN:VCALENDAR
VERSION:2.0
PRODID:-//mercedcasa.org//NONSGML kigkonsult.se iCalcreator 2.30.10//
CALSCALE:GREGORIAN
METHOD:PUBLISH
UID:e0b54434-52c5-42d2-a1b7-939ff1d982ef
X-WR-CALDESC:
X-WR-RELCALID:fd7850f7424a769a261815ace172f320
X-WR-TIMEZONE:America/Los_Angeles
BEGIN:VTIMEZONE
TZID:America/Los_Angeles
BEGIN:STANDARD
TZNAME:PST
DTSTART:20201101T020000
TZOFFSETFROM:-0700
TZOFFSETTO:-0800
RDATE:20211107T020000
END:STANDARD
BEGIN:DAYLIGHT
TZNAME:PDT
DTSTART:20210314T020000
TZOFFSETFROM:-0800
TZOFFSETTO:-0700
RDATE:20220313T020000
END:DAYLIGHT
END:VTIMEZONE
BEGIN:VEVENT
UID:979008e9-0775-4441-8386-e2a2470fb975
DTSTAMP:20260419T232420Z
DESCRIPTION:
DTSTART;TZID=America/Los_Angeles:20210412T173000
DTEND;TZID=America/Los_Angeles:20210412T203000
LOCATION:
SUMMARY:Training Class #38
END:VEVENT
END:VCALENDAR
