BEGIN:VCALENDAR
VERSION:2.0
PRODID:-//mercedcasa.org//NONSGML kigkonsult.se iCalcreator 2.30.10//
CALSCALE:GREGORIAN
METHOD:PUBLISH
UID:a41eb7a6-3b60-4c70-83c9-7f7f11a00ae3
X-WR-CALDESC:
X-WR-RELCALID:de205504a747384136c7af1accfeb9db
X-WR-TIMEZONE:America/Los_Angeles
BEGIN:VTIMEZONE
TZID:America/Los_Angeles
BEGIN:STANDARD
TZNAME:PST
DTSTART:20201101T020000
TZOFFSETFROM:-0700
TZOFFSETTO:-0800
RDATE:20211107T020000
END:STANDARD
BEGIN:DAYLIGHT
TZNAME:PDT
DTSTART:20210314T020000
TZOFFSETFROM:-0800
TZOFFSETTO:-0700
RDATE:20220313T020000
END:DAYLIGHT
END:VTIMEZONE
BEGIN:VEVENT
UID:fffbfa9d-28b9-4d66-b0d3-672521dbae5b
DTSTAMP:20260419T232420Z
DESCRIPTION:
DTSTART;TZID=America/Los_Angeles:20210414T143000
DTEND;TZID=America/Los_Angeles:20210414T153000
LOCATION:CASA Office
SUMMARY:Executive Meeting
END:VEVENT
END:VCALENDAR
