BEGIN:VCALENDAR
VERSION:2.0
PRODID:-//mercedcasa.org//NONSGML kigkonsult.se iCalcreator 2.30.10//
CALSCALE:GREGORIAN
METHOD:PUBLISH
UID:47978363-f129-4e28-b588-9bfe7c221299
X-WR-CALDESC:
X-WR-RELCALID:faf75ed9fef7114c771917237c1cb9ee
X-WR-TIMEZONE:America/Los_Angeles
BEGIN:VTIMEZONE
TZID:America/Los_Angeles
BEGIN:STANDARD
TZNAME:PST
DTSTART:20201101T020000
TZOFFSETFROM:-0700
TZOFFSETTO:-0800
RDATE:20211107T020000
END:STANDARD
BEGIN:DAYLIGHT
TZNAME:PDT
DTSTART:20210314T020000
TZOFFSETFROM:-0800
TZOFFSETTO:-0700
RDATE:20220313T020000
END:DAYLIGHT
END:VTIMEZONE
BEGIN:VEVENT
UID:a68aa9ba-aa60-4315-a794-366c4873cfe3
DTSTAMP:20260419T232421Z
DESCRIPTION:
DTSTART;TZID=America/Los_Angeles:20210415T173000
DTEND;TZID=America/Los_Angeles:20210415T203000
LOCATION:
SUMMARY:Training Class #38
END:VEVENT
END:VCALENDAR
