BEGIN:VCALENDAR
VERSION:2.0
PRODID:-//mercedcasa.org//NONSGML kigkonsult.se iCalcreator 2.30.10//
CALSCALE:GREGORIAN
METHOD:PUBLISH
UID:f0a38295-ff29-4e70-9c52-c119a96ab6b3
X-WR-CALDESC:When life gives you lemons\, make lemonade!\n\n\nIt is not alw
 ays that CASA gets to share such a sweet fundraiser! In support of Child A
 buse Awareness month\, Logann\, the 7-year old granddaughter of one of our
  fantastic Advocates (Kim McAuley) is having a lemonade stand on Friday\, 
 April 16 from 3pm-6pm. The lemonade will be made from freshly squeezed lem
 ons from the family’s lemon tree. The lemonade stand will be at the corner
  of Whitegate and Bear Creek in Merced.\n\n\nI hope you can support sweet 
 Logann - who has such a big heart! What an impression her grandmother has 
 made. Logann sees the hard work her grandma does supporting her CASA youth
  and wants to help foster youth and CASA.\n\n\nIf you are not able to purc
 hase lemonade in person\, but would like to donate to the cause\, you can 
 Venmo @LogannsLemonade\n\nAll proceeds from the lemonade stand go to CASA!
X-WR-RELCALID:08390d21beca518347287704e97cf3ee
X-WR-TIMEZONE:America/Los_Angeles
BEGIN:VTIMEZONE
TZID:America/Los_Angeles
BEGIN:STANDARD
TZNAME:PST
DTSTART:20201101T020000
TZOFFSETFROM:-0700
TZOFFSETTO:-0800
RDATE:20211107T020000
END:STANDARD
BEGIN:DAYLIGHT
TZNAME:PDT
DTSTART:20210314T020000
TZOFFSETFROM:-0800
TZOFFSETTO:-0700
RDATE:20220313T020000
END:DAYLIGHT
END:VTIMEZONE
BEGIN:VEVENT
UID:c22d7cf4-e0ad-4da2-acd8-1cc6fe1d8772
DTSTAMP:20260419T232726Z
DESCRIPTION:When life gives you lemons\, make lemonade!\n\n\nIt is not alwa
 ys that CASA gets to share such a sweet fundraiser! In support of Child Ab
 use Awareness month\, Logann\, the 7-year old granddaughter of one of our 
 fantastic Advocates (Kim McAuley) is having a lemonade stand on Friday\, A
 pril 16 from 3pm-6pm. The lemonade will be made from freshly squeezed lemo
 ns from the family’s lemon tree. The lemonade stand will be at the corner 
 of Whitegate and Bear Creek in Merced.\n\n\nI hope you can support sweet L
 ogann - who has such a big heart! What an impression her grandmother has m
 ade. Logann sees the hard work her grandma does supporting her CASA youth 
 and wants to help foster youth and CASA.\n\n\nIf you are not able to purch
 ase lemonade in person\, but would like to donate to the cause\, you can V
 enmo @LogannsLemonade\n\nAll proceeds from the lemonade stand go to CASA!
DTSTART;TZID=America/Los_Angeles:20210416T150000
DTEND;TZID=America/Los_Angeles:20210416T180000
LOCATION:At the corner of Whitegate and Bear Creek in Merced.
SUMMARY:Logann's Lemonade Stand to Benefit CASA of Merced County
END:VEVENT
END:VCALENDAR
