BEGIN:VCALENDAR
VERSION:2.0
PRODID:-//mercedcasa.org//NONSGML kigkonsult.se iCalcreator 2.30.10//
CALSCALE:GREGORIAN
METHOD:PUBLISH
UID:e88330d0-1352-4638-b7da-a69a9eeace7b
X-WR-CALDESC:
X-WR-RELCALID:aa60a88de99d8f2f2d79540f0587cdd0
X-WR-TIMEZONE:America/Los_Angeles
BEGIN:VTIMEZONE
TZID:America/Los_Angeles
BEGIN:STANDARD
TZNAME:PST
DTSTART:20201101T020000
TZOFFSETFROM:-0700
TZOFFSETTO:-0800
RDATE:20211107T020000
END:STANDARD
BEGIN:DAYLIGHT
TZNAME:PDT
DTSTART:20210314T020000
TZOFFSETFROM:-0800
TZOFFSETTO:-0700
RDATE:20220313T020000
END:DAYLIGHT
END:VTIMEZONE
BEGIN:VEVENT
UID:2e2fe23d-67ff-48c5-a5c1-661f0528fe8b
DTSTAMP:20260419T230623Z
DESCRIPTION:
DTSTART;TZID=America/Los_Angeles:20210419T173000
DTEND;TZID=America/Los_Angeles:20210419T203000
LOCATION:
SUMMARY:Training Class #38
END:VEVENT
END:VCALENDAR
