BEGIN:VCALENDAR
VERSION:2.0
PRODID:-//mercedcasa.org//NONSGML kigkonsult.se iCalcreator 2.30.10//
CALSCALE:GREGORIAN
METHOD:PUBLISH
UID:423c5ff2-96cd-49b2-9829-c5d535377da2
X-WR-CALDESC:
X-WR-RELCALID:5564c4fd97a18f2a04ec4b212ab4bf8b
X-WR-TIMEZONE:America/Los_Angeles
BEGIN:VTIMEZONE
TZID:America/Los_Angeles
BEGIN:STANDARD
TZNAME:PST
DTSTART:20201101T020000
TZOFFSETFROM:-0700
TZOFFSETTO:-0800
RDATE:20211107T020000
END:STANDARD
BEGIN:DAYLIGHT
TZNAME:PDT
DTSTART:20210314T020000
TZOFFSETFROM:-0800
TZOFFSETTO:-0700
RDATE:20220313T020000
END:DAYLIGHT
END:VTIMEZONE
BEGIN:VEVENT
UID:895c5865-962e-4dcc-aced-6d84ebfaaf2d
DTSTAMP:20260419T233310Z
DESCRIPTION:
DTSTART;TZID=America/Los_Angeles:20210422T173000
DTEND;TZID=America/Los_Angeles:20210422T203000
LOCATION:
SUMMARY:Training Class #38
END:VEVENT
END:VCALENDAR
