BEGIN:VCALENDAR
VERSION:2.0
PRODID:-//mercedcasa.org//NONSGML kigkonsult.se iCalcreator 2.30.10//
CALSCALE:GREGORIAN
METHOD:PUBLISH
UID:74df6e1f-9d15-4d07-9613-ca5bbd32ebce
X-WR-CALDESC:
X-WR-RELCALID:806145371a991b5b0f2fc0a35bc94a73
X-WR-TIMEZONE:America/Los_Angeles
BEGIN:VTIMEZONE
TZID:America/Los_Angeles
BEGIN:STANDARD
TZNAME:PST
DTSTART:20201101T020000
TZOFFSETFROM:-0700
TZOFFSETTO:-0800
RDATE:20211107T020000
END:STANDARD
BEGIN:DAYLIGHT
TZNAME:PDT
DTSTART:20210314T020000
TZOFFSETFROM:-0800
TZOFFSETTO:-0700
RDATE:20220313T020000
END:DAYLIGHT
END:VTIMEZONE
BEGIN:VEVENT
UID:49cc08a6-904f-460c-afe8-0de05f996be2
DTSTAMP:20260419T232822Z
DESCRIPTION:
DTSTART;TZID=America/Los_Angeles:20210426T173000
DTEND;TZID=America/Los_Angeles:20210426T203000
LOCATION:
SUMMARY:Training Class #38
END:VEVENT
END:VCALENDAR
