BEGIN:VCALENDAR
VERSION:2.0
PRODID:-//mercedcasa.org//NONSGML kigkonsult.se iCalcreator 2.30.10//
CALSCALE:GREGORIAN
METHOD:PUBLISH
UID:fe47d25e-9f89-43c7-922c-9b6977cbf1d4
X-WR-CALDESC:
X-WR-RELCALID:3ec649bf35bdbf0a2d59dd5e34f1e7cd
X-WR-TIMEZONE:America/Los_Angeles
BEGIN:VTIMEZONE
TZID:America/Los_Angeles
BEGIN:STANDARD
TZNAME:PST
DTSTART:20201101T020000
TZOFFSETFROM:-0700
TZOFFSETTO:-0800
RDATE:20211107T020000
END:STANDARD
BEGIN:DAYLIGHT
TZNAME:PDT
DTSTART:20210314T020000
TZOFFSETFROM:-0800
TZOFFSETTO:-0700
RDATE:20220313T020000
END:DAYLIGHT
END:VTIMEZONE
BEGIN:VEVENT
UID:a6a5dac6-0973-4da8-a4fd-5edc260c43ae
DTSTAMP:20260419T231707Z
DESCRIPTION:
DTSTART;TZID=America/Los_Angeles:20210429T173000
DTEND;TZID=America/Los_Angeles:20210429T203000
LOCATION:
SUMMARY:Training Class #38
END:VEVENT
END:VCALENDAR
