BEGIN:VCALENDAR
VERSION:2.0
PRODID:-//mercedcasa.org//NONSGML kigkonsult.se iCalcreator 2.30.10//
CALSCALE:GREGORIAN
METHOD:PUBLISH
UID:9c9ed5e8-7256-42a8-bc85-bbf065f100f0
X-WR-CALDESC:
X-WR-RELCALID:162cb56def71822020ab79408761d749
X-WR-TIMEZONE:America/Los_Angeles
BEGIN:VTIMEZONE
TZID:America/Los_Angeles
BEGIN:STANDARD
TZNAME:PST
DTSTART:20201101T020000
TZOFFSETFROM:-0700
TZOFFSETTO:-0800
RDATE:20211107T020000
END:STANDARD
BEGIN:DAYLIGHT
TZNAME:PDT
DTSTART:20210314T020000
TZOFFSETFROM:-0800
TZOFFSETTO:-0700
RDATE:20220313T020000
END:DAYLIGHT
END:VTIMEZONE
BEGIN:VEVENT
UID:8c019aed-8fb3-41f2-9931-08e2c520f935
DTSTAMP:20260419T213421Z
DESCRIPTION:
DTSTART;TZID=America/Los_Angeles:20210503T173000
DTEND;TZID=America/Los_Angeles:20210503T203000
LOCATION:
SUMMARY:Training Class #38
END:VEVENT
END:VCALENDAR
