BEGIN:VCALENDAR
VERSION:2.0
PRODID:-//mercedcasa.org//NONSGML kigkonsult.se iCalcreator 2.30.10//
CALSCALE:GREGORIAN
METHOD:PUBLISH
UID:e8722a26-32b5-43c7-a583-20d5bbf11fe5
X-WR-CALDESC:
X-WR-RELCALID:46641a6cd2c7a38fafcb2387df96d8db
X-WR-TIMEZONE:America/Los_Angeles
BEGIN:VTIMEZONE
TZID:America/Los_Angeles
BEGIN:STANDARD
TZNAME:PST
DTSTART:20201101T020000
TZOFFSETFROM:-0700
TZOFFSETTO:-0800
RDATE:20211107T020000
END:STANDARD
BEGIN:DAYLIGHT
TZNAME:PDT
DTSTART:20210314T020000
TZOFFSETFROM:-0800
TZOFFSETTO:-0700
RDATE:20220313T020000
END:DAYLIGHT
END:VTIMEZONE
BEGIN:VEVENT
UID:e65e99f4-0802-4c05-a294-211bea9c4265
DTSTAMP:20260419T212651Z
DESCRIPTION:
DTSTART;TZID=America/Los_Angeles:20210506T173000
DTEND;TZID=America/Los_Angeles:20210506T203000
LOCATION:
SUMMARY:Training Class #38
END:VEVENT
END:VCALENDAR
