BEGIN:VCALENDAR
VERSION:2.0
PRODID:-//mercedcasa.org//NONSGML kigkonsult.se iCalcreator 2.30.10//
CALSCALE:GREGORIAN
METHOD:PUBLISH
UID:6847f4b1-5e35-4cb8-bd30-e995744e7354
X-WR-CALDESC:
X-WR-RELCALID:ca3fa84f1a524a2533d4f6629f193f73
X-WR-TIMEZONE:America/Los_Angeles
BEGIN:VTIMEZONE
TZID:America/Los_Angeles
BEGIN:STANDARD
TZNAME:PST
DTSTART:20201101T020000
TZOFFSETFROM:-0700
TZOFFSETTO:-0800
RDATE:20211107T020000
RDATE:20221106T020000
END:STANDARD
BEGIN:DAYLIGHT
TZNAME:PDT
DTSTART:20210314T020000
TZOFFSETFROM:-0800
TZOFFSETTO:-0700
RDATE:20220313T020000
END:DAYLIGHT
END:VTIMEZONE
BEGIN:VEVENT
UID:babb85b7-d75f-49e9-8f9b-030df6c95374
DTSTAMP:20260419T211814Z
DESCRIPTION:
DTSTART;TZID=America/Los_Angeles:20210508T090000
DTEND;TZID=America/Los_Angeles:20210508T140000
LOCATION:
SUMMARY:Training Class #38
END:VEVENT
END:VCALENDAR
