BEGIN:VCALENDAR
VERSION:2.0
PRODID:-//mercedcasa.org//NONSGML kigkonsult.se iCalcreator 2.30.10//
CALSCALE:GREGORIAN
METHOD:PUBLISH
UID:e2f7e8e9-8a4b-42ba-abe0-e8a8392d7a9a
X-WR-CALDESC:
X-WR-RELCALID:4242a6e94082f08b1563a1b9b57d7178
X-WR-TIMEZONE:America/Los_Angeles
BEGIN:VTIMEZONE
TZID:America/Los_Angeles
BEGIN:STANDARD
TZNAME:PST
DTSTART:20201101T020000
TZOFFSETFROM:-0700
TZOFFSETTO:-0800
RDATE:20211107T020000
RDATE:20221106T020000
END:STANDARD
BEGIN:DAYLIGHT
TZNAME:PDT
DTSTART:20210314T020000
TZOFFSETFROM:-0800
TZOFFSETTO:-0700
RDATE:20220313T020000
END:DAYLIGHT
END:VTIMEZONE
BEGIN:VEVENT
UID:f905e4b4-2edc-4f02-b889-21b6926eb032
DTSTAMP:20260419T211119Z
DESCRIPTION:
DTSTART;TZID=America/Los_Angeles:20210512T143000
DTEND;TZID=America/Los_Angeles:20210512T153000
LOCATION:CASA Office
SUMMARY:Executive Meeting
END:VEVENT
END:VCALENDAR
