BEGIN:VCALENDAR
VERSION:2.0
PRODID:-//mercedcasa.org//NONSGML kigkonsult.se iCalcreator 2.30.10//
CALSCALE:GREGORIAN
METHOD:PUBLISH
UID:cf1b22bd-07f3-4593-9fbc-7b22d9e0ce14
X-WR-CALDESC:Please stop by and buy a Kona Ice or two on Saturday\, June 19
 th from 12 to 2 pm at 785 Bellevue in Atwater- some of the proceeds will h
 elp benefit CASA of Merced County!
X-WR-RELCALID:3615f4719754a0230b6ff4f3718c48f0
X-WR-TIMEZONE:America/Los_Angeles
BEGIN:VTIMEZONE
TZID:America/Los_Angeles
BEGIN:STANDARD
TZNAME:PST
DTSTART:20201101T020000
TZOFFSETFROM:-0700
TZOFFSETTO:-0800
RDATE:20211107T020000
RDATE:20221106T020000
END:STANDARD
BEGIN:DAYLIGHT
TZNAME:PDT
DTSTART:20210314T020000
TZOFFSETFROM:-0800
TZOFFSETTO:-0700
RDATE:20220313T020000
END:DAYLIGHT
END:VTIMEZONE
BEGIN:VEVENT
UID:4f6f4039-23db-4a0c-a86e-0d116d74499f
DTSTAMP:20260419T193026Z
DESCRIPTION:Please stop by and buy a Kona Ice or two on Saturday\, June 19t
 h from 12 to 2 pm at 785 Bellevue in Atwater- some of the proceeds will he
 lp benefit CASA of Merced County!
DTSTART;TZID=America/Los_Angeles:20210619T120000
DTEND;TZID=America/Los_Angeles:20210619T140000
LOCATION:at the Bellevue Bowl parking lot located at  785 Bellevue Rd in At
 water
SUMMARY:Kona Ice Fundraiser to Benefit CASA of Merced County
END:VEVENT
END:VCALENDAR
