BEGIN:VCALENDAR
VERSION:2.0
PRODID:-//mercedcasa.org//NONSGML kigkonsult.se iCalcreator 2.30.10//
CALSCALE:GREGORIAN
METHOD:PUBLISH
UID:f98a0b43-8fb0-40b5-9f64-2ced0a3a5c7d
X-WR-CALDESC:
X-WR-RELCALID:cb013a37b17458258dedcc34cc52d27e
X-WR-TIMEZONE:America/Los_Angeles
BEGIN:VTIMEZONE
TZID:America/Los_Angeles
BEGIN:STANDARD
TZNAME:PST
DTSTART:20201101T020000
TZOFFSETFROM:-0700
TZOFFSETTO:-0800
RDATE:20211107T020000
RDATE:20221106T020000
END:STANDARD
BEGIN:DAYLIGHT
TZNAME:PDT
DTSTART:20210314T020000
TZOFFSETFROM:-0800
TZOFFSETTO:-0700
RDATE:20220313T020000
END:DAYLIGHT
END:VTIMEZONE
BEGIN:VEVENT
UID:57d15e01-6379-4441-a81b-a0cc347f4f14
DTSTAMP:20260419T192449Z
DESCRIPTION:
DTSTART;TZID=America/Los_Angeles:20210622T123000
DTEND;TZID=America/Los_Angeles:20210622T183000
LOCATION:
SUMMARY:Training Class #39
END:VEVENT
END:VCALENDAR
