BEGIN:VCALENDAR
VERSION:2.0
PRODID:-//mercedcasa.org//NONSGML kigkonsult.se iCalcreator 2.30.10//
CALSCALE:GREGORIAN
METHOD:PUBLISH
UID:caba0bf5-455a-497c-a09f-98aa67d7a738
X-WR-CALDESC:
X-WR-RELCALID:9a83a19827b53e7fb0c057602ed71d10
X-WR-TIMEZONE:America/Los_Angeles
BEGIN:VTIMEZONE
TZID:America/Los_Angeles
BEGIN:STANDARD
TZNAME:PST
DTSTART:20201101T020000
TZOFFSETFROM:-0700
TZOFFSETTO:-0800
RDATE:20211107T020000
RDATE:20221106T020000
END:STANDARD
BEGIN:DAYLIGHT
TZNAME:PDT
DTSTART:20210314T020000
TZOFFSETFROM:-0800
TZOFFSETTO:-0700
RDATE:20220313T020000
END:DAYLIGHT
END:VTIMEZONE
BEGIN:VEVENT
UID:70ff91fa-36bc-4795-83a5-ca9332f3665e
DTSTAMP:20260419T192449Z
DESCRIPTION:
DTSTART;TZID=America/Los_Angeles:20210625T123000
DTEND;TZID=America/Los_Angeles:20210625T183000
LOCATION:
SUMMARY:Training Class #39
END:VEVENT
END:VCALENDAR
