BEGIN:VCALENDAR
VERSION:2.0
PRODID:-//mercedcasa.org//NONSGML kigkonsult.se iCalcreator 2.30.10//
CALSCALE:GREGORIAN
METHOD:PUBLISH
UID:aa0431fb-8b81-49e1-b475-f13970cc40d1
X-WR-CALDESC:
X-WR-RELCALID:d29d3d13f4433fa2d8f20949d4f42ae9
X-WR-TIMEZONE:America/Los_Angeles
BEGIN:VTIMEZONE
TZID:America/Los_Angeles
BEGIN:STANDARD
TZNAME:PST
DTSTART:20211107T020000
TZOFFSETFROM:-0700
TZOFFSETTO:-0800
RDATE:20221106T020000
END:STANDARD
BEGIN:DAYLIGHT
TZNAME:PDT
DTSTART:20210314T020000
TZOFFSETFROM:-0800
TZOFFSETTO:-0700
RDATE:20220313T020000
RDATE:20230312T020000
END:DAYLIGHT
END:VTIMEZONE
BEGIN:VEVENT
UID:ebbdf4a4-cb4a-4316-b85d-3391d4e1cb40
DTSTAMP:20260425T170551Z
DESCRIPTION:
DTSTART;TZID=America/Los_Angeles:20220112T143000
DTEND;TZID=America/Los_Angeles:20220112T153000
LOCATION:CASA Office
SUMMARY:Executive Meeting
END:VEVENT
END:VCALENDAR
