BEGIN:VCALENDAR
VERSION:2.0
PRODID:-//mercedcasa.org//NONSGML kigkonsult.se iCalcreator 2.30.10//
CALSCALE:GREGORIAN
METHOD:PUBLISH
UID:0d88460d-64c1-4f2e-b869-548c9188d660
X-WR-CALDESC:
X-WR-RELCALID:81a3184c54c0d77485392d2283b3272f
X-WR-TIMEZONE:America/Los_Angeles
BEGIN:VTIMEZONE
TZID:America/Los_Angeles
BEGIN:STANDARD
TZNAME:PST
DTSTART:20221106T020000
TZOFFSETFROM:-0700
TZOFFSETTO:-0800
RDATE:20231105T020000
RDATE:20241103T020000
END:STANDARD
BEGIN:DAYLIGHT
TZNAME:PDT
DTSTART:20230312T020000
TZOFFSETFROM:-0800
TZOFFSETTO:-0700
RDATE:20240310T020000
END:DAYLIGHT
END:VTIMEZONE
BEGIN:VEVENT
UID:bf982787-e9c4-4cf7-b63a-6acefeab0717
DTSTAMP:20260424T071557Z
DESCRIPTION:
DTSTART;TZID=America/Los_Angeles:20230904T000000
DTEND;TZID=America/Los_Angeles:20230904T235900
LOCATION:
SUMMARY:The CASA office will be closed in observance of Labor Day.
END:VEVENT
END:VCALENDAR
