BEGIN:VCALENDAR
VERSION:2.0
PRODID:-//mercedcasa.org//NONSGML kigkonsult.se iCalcreator 2.30.10//
CALSCALE:GREGORIAN
METHOD:PUBLISH
UID:e06e6cb0-9238-4ecc-a550-909ed5245d3f
X-WR-CALDESC:CASA of Merced County was chosen again to be this year's Buck 
 for Kids recipient.  Please visit one of the three Dutch Bros in Merced Co
 unty to purchase a drink\, or two or three in support of CASA of Merced Co
 unty on September 15th!
X-WR-RELCALID:7776e35d418ab68dbd4180c13e5f9b24
X-WR-TIMEZONE:America/Los_Angeles
BEGIN:VTIMEZONE
TZID:America/Los_Angeles
BEGIN:STANDARD
TZNAME:PST
DTSTART:20221106T020000
TZOFFSETFROM:-0700
TZOFFSETTO:-0800
RDATE:20231105T020000
RDATE:20241103T020000
END:STANDARD
BEGIN:DAYLIGHT
TZNAME:PDT
DTSTART:20230312T020000
TZOFFSETFROM:-0800
TZOFFSETTO:-0700
RDATE:20240310T020000
RDATE:20250309T020000
END:DAYLIGHT
END:VTIMEZONE
BEGIN:VEVENT
UID:6b6b4862-4846-4c60-a248-1d98ac2391c3
DTSTAMP:20260424T071557Z
DESCRIPTION:CASA of Merced County was chosen again to be this year's Buck f
 or Kids recipient.  Please visit one of the three Dutch Bros in Merced Cou
 nty to purchase a drink\, or two or three in support of CASA of Merced Cou
 nty on September 15th!
DTSTART;TZID=America/Los_Angeles:20230915T000000
DTEND;TZID=America/Los_Angeles:20230915T235900
LOCATION:
SUMMARY:Dutch Bros Buck For Kids
END:VEVENT
END:VCALENDAR
