BEGIN:VCALENDAR
VERSION:2.0
PRODID:-//mercedcasa.org//NONSGML kigkonsult.se iCalcreator 2.30.10//
CALSCALE:GREGORIAN
METHOD:PUBLISH
UID:7b2d16b0-5d5a-4c69-b5fd-fd17ff30e09f
X-WR-CALDESC:
X-WR-RELCALID:053cff01c00a8be0b7ca55eb88cb57d5
X-WR-TIMEZONE:America/Los_Angeles
BEGIN:VTIMEZONE
TZID:America/Los_Angeles
BEGIN:STANDARD
TZNAME:PST
DTSTART:20221106T020000
TZOFFSETFROM:-0700
TZOFFSETTO:-0800
RDATE:20231105T020000
RDATE:20241103T020000
END:STANDARD
BEGIN:DAYLIGHT
TZNAME:PDT
DTSTART:20230312T020000
TZOFFSETFROM:-0800
TZOFFSETTO:-0700
RDATE:20240310T020000
RDATE:20250309T020000
END:DAYLIGHT
END:VTIMEZONE
BEGIN:VEVENT
UID:089a363d-d6e5-42f9-b835-4e5061b54acc
DTSTAMP:20260424T051643Z
DESCRIPTION:
DTSTART;TZID=America/Los_Angeles:20231005T173000
DTEND;TZID=America/Los_Angeles:20231005T203000
LOCATION:
SUMMARY:Fall Session 2023- Training Class Day Two
END:VEVENT
END:VCALENDAR
