BEGIN:VCALENDAR
VERSION:2.0
PRODID:-//mercedcasa.org//NONSGML kigkonsult.se iCalcreator 2.30.10//
CALSCALE:GREGORIAN
METHOD:PUBLISH
UID:913913dc-57b3-4a1e-8b2f-ad48de0b7047
X-WR-CALDESC:
X-WR-RELCALID:7d349eac9f23d96f48c170866ee15947
X-WR-TIMEZONE:America/Los_Angeles
BEGIN:VTIMEZONE
TZID:America/Los_Angeles
BEGIN:STANDARD
TZNAME:PST
DTSTART:20221106T020000
TZOFFSETFROM:-0700
TZOFFSETTO:-0800
RDATE:20231105T020000
RDATE:20241103T020000
END:STANDARD
BEGIN:DAYLIGHT
TZNAME:PDT
DTSTART:20230312T020000
TZOFFSETFROM:-0800
TZOFFSETTO:-0700
RDATE:20240310T020000
RDATE:20250309T020000
END:DAYLIGHT
END:VTIMEZONE
BEGIN:VEVENT
UID:626ae90f-8e17-4938-850b-46ea01196d16
DTSTAMP:20260424T052203Z
DESCRIPTION:
DTSTART;TZID=America/Los_Angeles:20231019T173000
DTEND;TZID=America/Los_Angeles:20231019T203000
LOCATION:
SUMMARY:Fall Session 2023- Training Class Day Five
END:VEVENT
END:VCALENDAR
