BEGIN:VCALENDAR
VERSION:2.0
PRODID:-//mercedcasa.org//NONSGML kigkonsult.se iCalcreator 2.30.10//
CALSCALE:GREGORIAN
METHOD:PUBLISH
UID:c84882a7-61b9-4416-a317-4bf78289eaa0
X-WR-CALDESC:
X-WR-RELCALID:c6ec22074be6c86d71c4a613435e7e5c
X-WR-TIMEZONE:America/Los_Angeles
BEGIN:VTIMEZONE
TZID:America/Los_Angeles
BEGIN:STANDARD
TZNAME:PST
DTSTART:20221106T020000
TZOFFSETFROM:-0700
TZOFFSETTO:-0800
RDATE:20231105T020000
RDATE:20241103T020000
END:STANDARD
BEGIN:DAYLIGHT
TZNAME:PDT
DTSTART:20230312T020000
TZOFFSETFROM:-0800
TZOFFSETTO:-0700
RDATE:20240310T020000
RDATE:20250309T020000
END:DAYLIGHT
END:VTIMEZONE
BEGIN:VEVENT
UID:dae8c53f-69a9-481f-9a24-4343c469e8ca
DTSTAMP:20260424T052046Z
DESCRIPTION:
DTSTART;TZID=America/Los_Angeles:20231023T173000
DTEND;TZID=America/Los_Angeles:20231023T203000
LOCATION:
SUMMARY:Fall Session 2023- Training Class Day Six
END:VEVENT
END:VCALENDAR
