BEGIN:VCALENDAR
VERSION:2.0
PRODID:-//mercedcasa.org//NONSGML kigkonsult.se iCalcreator 2.30.10//
CALSCALE:GREGORIAN
METHOD:PUBLISH
UID:be62011f-9511-4da2-b2d0-2c3bf52530ac
X-WR-CALDESC:
X-WR-RELCALID:fc8e99dc7f228c6e3ab9b732d87e60e8
X-WR-TIMEZONE:America/Los_Angeles
BEGIN:VTIMEZONE
TZID:America/Los_Angeles
BEGIN:STANDARD
TZNAME:PST
DTSTART:20231105T020000
TZOFFSETFROM:-0700
TZOFFSETTO:-0800
RDATE:20241103T020000
END:STANDARD
BEGIN:DAYLIGHT
TZNAME:PDT
DTSTART:20230312T020000
TZOFFSETFROM:-0800
TZOFFSETTO:-0700
RDATE:20240310T020000
RDATE:20250309T020000
END:DAYLIGHT
END:VTIMEZONE
BEGIN:VEVENT
UID:b5fe728d-4141-4cd3-a867-db33b0c7d122
DTSTAMP:20260424T033826Z
DESCRIPTION:
DTSTART;TZID=America/Los_Angeles:20231108T143000
DTEND;TZID=America/Los_Angeles:20231108T153000
LOCATION:CASA Office
SUMMARY:Executive Meeting
END:VEVENT
END:VCALENDAR
