BEGIN:VCALENDAR
VERSION:2.0
PRODID:-//mercedcasa.org//NONSGML kigkonsult.se iCalcreator 2.30.10//
CALSCALE:GREGORIAN
METHOD:PUBLISH
UID:e2ec6f2c-56b5-4d74-ac29-cb4ad150c3e1
X-WR-CALDESC:
X-WR-RELCALID:755c9f1bc1c5ccd3aa78a38ded9536bc
X-WR-TIMEZONE:America/Los_Angeles
BEGIN:VTIMEZONE
TZID:America/Los_Angeles
BEGIN:STANDARD
TZNAME:PST
DTSTART:20231105T020000
TZOFFSETFROM:-0700
TZOFFSETTO:-0800
RDATE:20241103T020000
END:STANDARD
BEGIN:DAYLIGHT
TZNAME:PDT
DTSTART:20230312T020000
TZOFFSETFROM:-0800
TZOFFSETTO:-0700
RDATE:20240310T020000
RDATE:20250309T020000
END:DAYLIGHT
END:VTIMEZONE
BEGIN:VEVENT
UID:2e14e514-65c8-431e-b516-6e8bf84d7e4c
DTSTAMP:20260424T033433Z
DESCRIPTION:
DTSTART;TZID=America/Los_Angeles:20231123T000000
DTEND;TZID=America/Los_Angeles:20231123T235900
LOCATION:
SUMMARY:The CASA office will be closed in observance of Thanksgiving Day.
END:VEVENT
END:VCALENDAR
