BEGIN:VCALENDAR
VERSION:2.0
PRODID:-//mercedcasa.org//NONSGML kigkonsult.se iCalcreator 2.30.10//
CALSCALE:GREGORIAN
METHOD:PUBLISH
UID:ec441e9d-1536-40b5-93ae-fc56224e10f6
X-WR-CALDESC:
X-WR-RELCALID:a9d596795f194fee435d33762a3c8b43
X-WR-TIMEZONE:America/Los_Angeles
BEGIN:VTIMEZONE
TZID:America/Los_Angeles
BEGIN:STANDARD
TZNAME:PST
DTSTART:20231105T020000
TZOFFSETFROM:-0700
TZOFFSETTO:-0800
RDATE:20241103T020000
END:STANDARD
BEGIN:DAYLIGHT
TZNAME:PDT
DTSTART:20230312T020000
TZOFFSETFROM:-0800
TZOFFSETTO:-0700
RDATE:20240310T020000
RDATE:20250309T020000
END:DAYLIGHT
END:VTIMEZONE
BEGIN:VEVENT
UID:ddd5ece7-023b-4595-94de-025bb1586f94
DTSTAMP:20260421T222309Z
DESCRIPTION:
DTSTART;TZID=America/Los_Angeles:20240214T163000
DTEND;TZID=America/Los_Angeles:20240214T173000
LOCATION:CASA Office
SUMMARY:Executive Meeting
END:VEVENT
END:VCALENDAR
