BEGIN:VCALENDAR
VERSION:2.0
PRODID:-//mercedcasa.org//NONSGML kigkonsult.se iCalcreator 2.30.10//
CALSCALE:GREGORIAN
METHOD:PUBLISH
UID:a0aabfbc-0e89-4a35-a5cf-68a207475c06
X-WR-CALDESC:
X-WR-RELCALID:819f885d7ab2c7621b3a276d070c0efb
X-WR-TIMEZONE:America/Los_Angeles
BEGIN:VTIMEZONE
TZID:America/Los_Angeles
BEGIN:STANDARD
TZNAME:PST
DTSTART:20231105T020000
TZOFFSETFROM:-0700
TZOFFSETTO:-0800
RDATE:20241103T020000
RDATE:20251102T020000
END:STANDARD
BEGIN:DAYLIGHT
TZNAME:PDT
DTSTART:20240310T020000
TZOFFSETFROM:-0800
TZOFFSETTO:-0700
RDATE:20250309T020000
END:DAYLIGHT
END:VTIMEZONE
BEGIN:VEVENT
UID:a41520ad-dac2-4398-95f4-2e9faa7cf174
DTSTAMP:20260421T134413Z
DESCRIPTION:
DTSTART;TZID=America/Los_Angeles:20240805T173000
DTEND;TZID=America/Los_Angeles:20240805T203000
LOCATION:
SUMMARY:Second Day of Summer Session (2) 2024 Training- Class 55
END:VEVENT
END:VCALENDAR
