BEGIN:VCALENDAR
VERSION:2.0
PRODID:-//mercedcasa.org//NONSGML kigkonsult.se iCalcreator 2.30.10//
CALSCALE:GREGORIAN
METHOD:PUBLISH
UID:d5c6f289-d21b-4c92-997a-0addac7e4000
X-WR-CALDESC:
X-WR-RELCALID:feb3967780aeabac20893079fea5d732
X-WR-TIMEZONE:America/Los_Angeles
BEGIN:VTIMEZONE
TZID:America/Los_Angeles
BEGIN:STANDARD
TZNAME:PST
DTSTART:20251102T020000
TZOFFSETFROM:-0700
TZOFFSETTO:-0800
RDATE:20261101T020000
RDATE:20271107T020000
END:STANDARD
BEGIN:DAYLIGHT
TZNAME:PDT
DTSTART:20260308T020000
TZOFFSETFROM:-0800
TZOFFSETTO:-0700
RDATE:20270314T020000
END:DAYLIGHT
END:VTIMEZONE
BEGIN:VEVENT
UID:51b952aa-19c2-4581-909d-99a0be630be8
DTSTAMP:20260425T193357Z
DESCRIPTION:
DTSTART;TZID=America/Los_Angeles:20260508T173000
DTEND;TZID=America/Los_Angeles:20260508T210000
LOCATION:1360 N Johnson Rd Room S4\, Turlock\, CA 95380 US
SUMMARY:Class Sixty-Five Training: Day Six
END:VEVENT
END:VCALENDAR
