BEGIN:VCALENDAR
VERSION:2.0
PRODID:-//mercedcasa.org//NONSGML kigkonsult.se iCalcreator 2.30.10//
CALSCALE:GREGORIAN
METHOD:PUBLISH
UID:e956ba03-f138-4c45-8ca8-dfd53f2a166b
X-WR-CALDESC:
X-WR-RELCALID:18a3a6e93b077dc1ac023b0e417d9e50
X-WR-TIMEZONE:America/Los_Angeles
BEGIN:VTIMEZONE
TZID:America/Los_Angeles
BEGIN:STANDARD
TZNAME:PST
DTSTART:20191103T020000
TZOFFSETFROM:-0700
TZOFFSETTO:-0800
RDATE:20201101T020000
END:STANDARD
BEGIN:DAYLIGHT
TZNAME:PDT
DTSTART:20190310T020000
TZOFFSETFROM:-0800
TZOFFSETTO:-0700
RDATE:20200308T020000
RDATE:20210314T020000
END:DAYLIGHT
END:VTIMEZONE
BEGIN:VEVENT
UID:e5fecd11-1d2c-47e9-b407-ae5db26f5e2c
DTSTAMP:20260424T050157Z
DESCRIPTION:
DTSTART;TZID=America/Los_Angeles:20200203T173000
DTEND;TZID=America/Los_Angeles:20200203T203000
LOCATION:
SUMMARY:Training Class #33
END:VEVENT
END:VCALENDAR
