BEGIN:VCALENDAR
VERSION:2.0
PRODID:-//mercedcasa.org//NONSGML kigkonsult.se iCalcreator 2.30.10//
CALSCALE:GREGORIAN
METHOD:PUBLISH
UID:c690a75a-8d99-40da-b10c-14af1d5bf69c
X-WR-CALDESC:
X-WR-RELCALID:7ae6d8b93e87a53aadadc66c98fd5dc5
X-WR-TIMEZONE:America/Los_Angeles
BEGIN:VTIMEZONE
TZID:America/Los_Angeles
BEGIN:STANDARD
TZNAME:PST
DTSTART:20191103T020000
TZOFFSETFROM:-0700
TZOFFSETTO:-0800
RDATE:20201101T020000
END:STANDARD
BEGIN:DAYLIGHT
TZNAME:PDT
DTSTART:20190310T020000
TZOFFSETFROM:-0800
TZOFFSETTO:-0700
RDATE:20200308T020000
RDATE:20210314T020000
END:DAYLIGHT
END:VTIMEZONE
BEGIN:VEVENT
UID:3cf361dd-b6c8-48ac-97ca-b956beb2d6d1
DTSTAMP:20260421T053512Z
DESCRIPTION:
DTSTART;TZID=America/Los_Angeles:20200210T173000
DTEND;TZID=America/Los_Angeles:20200210T203000
LOCATION:
SUMMARY:Training Class #33
END:VEVENT
END:VCALENDAR
