BEGIN:VCALENDAR
VERSION:2.0
PRODID:-//mercedcasa.org//NONSGML kigkonsult.se iCalcreator 2.30.10//
CALSCALE:GREGORIAN
METHOD:PUBLISH
UID:2a4c4051-6043-47cf-8641-85256d44b303
X-WR-CALDESC:
X-WR-RELCALID:ede7f5ea53931229497d420051d79b78
X-WR-TIMEZONE:America/Los_Angeles
BEGIN:VTIMEZONE
TZID:America/Los_Angeles
BEGIN:STANDARD
TZNAME:PST
DTSTART:20201101T020000
TZOFFSETFROM:-0700
TZOFFSETTO:-0800
RDATE:20211107T020000
END:STANDARD
BEGIN:DAYLIGHT
TZNAME:PDT
DTSTART:20200308T020000
TZOFFSETFROM:-0800
TZOFFSETTO:-0700
RDATE:20210314T020000
RDATE:20220313T020000
END:DAYLIGHT
END:VTIMEZONE
BEGIN:VEVENT
UID:6c5122de-c3b4-42ba-8fb1-19304ac3255d
DTSTAMP:20260425T105026Z
DESCRIPTION:
DTSTART;TZID=America/Los_Angeles:20210204T173000
DTEND;TZID=America/Los_Angeles:20210204T203000
LOCATION:
SUMMARY:Training Class #37
END:VEVENT
END:VCALENDAR
