BEGIN:VCALENDAR
VERSION:2.0
PRODID:-//mercedcasa.org//NONSGML kigkonsult.se iCalcreator 2.30.10//
CALSCALE:GREGORIAN
METHOD:PUBLISH
UID:848738b6-b564-4f3c-86ff-bccff174320d
X-WR-CALDESC:
X-WR-RELCALID:05bae28f6fd8ca33df22e7dffdd4be60
X-WR-TIMEZONE:America/Los_Angeles
BEGIN:VTIMEZONE
TZID:America/Los_Angeles
BEGIN:STANDARD
TZNAME:PST
DTSTART:20201101T020000
TZOFFSETFROM:-0700
TZOFFSETTO:-0800
RDATE:20211107T020000
RDATE:20221106T020000
END:STANDARD
BEGIN:DAYLIGHT
TZNAME:PDT
DTSTART:20210314T020000
TZOFFSETFROM:-0800
TZOFFSETTO:-0700
RDATE:20220313T020000
END:DAYLIGHT
END:VTIMEZONE
BEGIN:VEVENT
UID:b3ab1425-eb16-423c-87e4-596171c90780
DTSTAMP:20260422T083512Z
DESCRIPTION:
DTSTART;TZID=America/Los_Angeles:20210621T123000
DTEND;TZID=America/Los_Angeles:20210621T183000
LOCATION:
SUMMARY:Training Class #39
END:VEVENT
END:VCALENDAR
