BEGIN:VCALENDAR
VERSION:2.0
PRODID:-//mercedcasa.org//NONSGML kigkonsult.se iCalcreator 2.30.10//
CALSCALE:GREGORIAN
METHOD:PUBLISH
UID:3411e36e-189a-48de-b683-ed6f78179e84
X-WR-CALDESC:
X-WR-RELCALID:414ff047ad71406745586d2384cd39bf
X-WR-TIMEZONE:America/Los_Angeles
BEGIN:VTIMEZONE
TZID:America/Los_Angeles
BEGIN:STANDARD
TZNAME:PST
DTSTART:20201101T020000
TZOFFSETFROM:-0700
TZOFFSETTO:-0800
RDATE:20211107T020000
RDATE:20221106T020000
END:STANDARD
BEGIN:DAYLIGHT
TZNAME:PDT
DTSTART:20210314T020000
TZOFFSETFROM:-0800
TZOFFSETTO:-0700
RDATE:20220313T020000
END:DAYLIGHT
END:VTIMEZONE
BEGIN:VEVENT
UID:a84e3d71-c07a-46ae-bd8d-bfe8ee9c8cbd
DTSTAMP:20260425T195959Z
DESCRIPTION:
DTSTART;TZID=America/Los_Angeles:20210624T123000
DTEND;TZID=America/Los_Angeles:20210624T183000
LOCATION:
SUMMARY:Training Class #39
END:VEVENT
END:VCALENDAR
