BEGIN:VCALENDAR
VERSION:2.0
PRODID:-//mercedcasa.org//NONSGML kigkonsult.se iCalcreator 2.30.10//
CALSCALE:GREGORIAN
METHOD:PUBLISH
UID:466a5d74-5057-4065-8e8e-5e88794c66fb
X-WR-CALDESC:
X-WR-RELCALID:0f1c65870a16e80668c7903a994168a4
X-WR-TIMEZONE:America/Los_Angeles
BEGIN:VTIMEZONE
TZID:America/Los_Angeles
BEGIN:STANDARD
TZNAME:PST
DTSTART:20211107T020000
TZOFFSETFROM:-0700
TZOFFSETTO:-0800
RDATE:20221106T020000
END:STANDARD
BEGIN:DAYLIGHT
TZNAME:PDT
DTSTART:20210314T020000
TZOFFSETFROM:-0800
TZOFFSETTO:-0700
RDATE:20220313T020000
RDATE:20230312T020000
END:DAYLIGHT
END:VTIMEZONE
BEGIN:VEVENT
UID:5c93072f-a768-45e9-a75c-a4c22d3264ce
DTSTAMP:20260423T130641Z
DESCRIPTION:
DTSTART;TZID=America/Los_Angeles:20211106T090000
DTEND;TZID=America/Los_Angeles:20211106T140000
LOCATION:
SUMMARY:Training Class #41
END:VEVENT
END:VCALENDAR
