BEGIN:VCALENDAR
VERSION:2.0
PRODID:-//mercedcasa.org//NONSGML kigkonsult.se iCalcreator 2.30.10//
CALSCALE:GREGORIAN
METHOD:PUBLISH
UID:ff9a419c-5df3-4ae7-9e3d-c8a145cc57b0
X-WR-CALDESC:
X-WR-RELCALID:75d747b9dcb70d39bfd92888649e2cf8
X-WR-TIMEZONE:America/Los_Angeles
BEGIN:VTIMEZONE
TZID:America/Los_Angeles
BEGIN:STANDARD
TZNAME:PST
DTSTART:20211107T020000
TZOFFSETFROM:-0700
TZOFFSETTO:-0800
RDATE:20221106T020000
RDATE:20231105T020000
END:STANDARD
BEGIN:DAYLIGHT
TZNAME:PDT
DTSTART:20220313T020000
TZOFFSETFROM:-0800
TZOFFSETTO:-0700
RDATE:20230312T020000
END:DAYLIGHT
END:VTIMEZONE
BEGIN:VEVENT
UID:0cf4e322-55cc-4bc4-be30-eca010628ae9
DTSTAMP:20260420T045226Z
DESCRIPTION:
DTSTART;TZID=America/Los_Angeles:20220608T143000
DTEND;TZID=America/Los_Angeles:20220608T153000
LOCATION:CASA Office
SUMMARY:Executive Meeting
END:VEVENT
END:VCALENDAR
